Workbook

Sheet Sheet1
A1: Merge | B1: Date | C1: Sales Man Name | D1: Sales Amount | E1: Commission Amount
A2: =B2&C2&D2 -> 46174Rahul Sharma94696 | B2: 46174 | C2: Rahul Sharma | D2: 94696 | E2: 2614
A3: =B3&C3&D3 -> 46175Amit Kumar74655 | B3: 46175 | C3: Amit Kumar | D3: 74655 | E3: 2060
A4: =B4&C4&D4 -> 46176Vikram Singh77488 | B4: 46176 | C4: Vikram Singh | D4: 77488 | E4: 2139
A5: =B5&C5&D5 -> 46177Rohit Verma74243 | B5: 46177 | C5: Rohit Verma | D5: 74243 | E5: 2049
A6: =B6&C6&D6 -> 46178Sandeep Gupta95661 | B6: 46178 | C6: Sandeep Gupta | D6: 95661 | E6: 2640
A7: =B7&C7&D7 -> 46179Rahul Sharma98223 | B7: 46179 | C7: Rahul Sharma | D7: 98223 | E7: 2711
A8: =B8&C8&D8 -> 46180Amit Kumar92184 | B8: 46180 | C8: Amit Kumar | D8: 92184 | E8: 2544
A9: =B9&C9&D9 -> 46181Vikram Singh82573 | B9: 46181 | C9: Vikram Singh | D9: 82573 | E9: 2279
A10: =B10&C10&D10 -> 46182Rohit Verma74787 | B10: 46182 | C10: Rohit Verma | D10: 74787 | E10: 2064
A11: =B11&C11&D11 -> 46183Sandeep Gupta60642 | B11: 46183 | C11: Sandeep Gupta | D11: 60642 | E11: 1674
A12: =B12&C12&D12 -> 46184Rahul Sharma76736 | B12: 46184 | C12: Rahul Sharma | D12: 76736 | E12: 2118
A13: =B13&C13&D13 -> 46185Amit Kumar82923 | B13: 46185 | C13: Amit Kumar | D13: 82923 | E13: 2289
... A44: =B44&C44&D44 -> 46216Rahul Sharma66887 | B44: 46216 | C44: Rahul Sharma | D44: 66887 | E44: 1846

Sheet Sheet2
A1: Merge | B1: Date | C1: Sales Man Name | D1: Sales Amount | E1: Commission Amount
A2: =B2&C2&D2 -> 46174Rahul Sharma94696 | B2: 46174 | C2: Rahul Sharma | D2: 94696 | E2: =VLOOKUP(A2,Sheet1!A:E,5,0) -> 2614
A3: =B3&C3&D3 -> 46175Amit Kumar74655 | B3: 46175 | C3: Amit Kumar | D3: 74655 | E3: =VLOOKUP(A3,Sheet1!A:E,5,0) -> 2060
A4: =B4&C4&D4 -> 46176Vikram Singh77488 | B4: 46176 | C4: Vikram Singh | D4: 77488 | E4: =VLOOKUP(A4,Sheet1!A:E,5,0) -> 2139
A5: =B5&C5&D5 -> 46177Rohit Verma74243 | B5: 46177 | C5: Rohit Verma | D5: 74243 | E5: =VLOOKUP(A5,Sheet1!A:E,5,0) -> 2049
A6: =B6&C6&D6 -> 46178Sandeep Gupta95661 | B6: 46178 | C6: Sandeep Gupta | D6: 95661 | E6: =VLOOKUP(A6,Sheet1!A:E,5,0) -> 2640
A7: =B7&C7&D7 -> 46179Rahul Sharma98223 | B7: 46179 | C7: Rahul Sharma | D7: 98223 | E7: =VLOOKUP(A7,Sheet1!A:E,5,0) -> 2711
A8: =B8&C8&D8 -> 46180Amit Kumar92184 | B8: 46180 | C8: Amit Kumar | D8: 92184 | E8: =VLOOKUP(A8,Sheet1!A:E,5,0) -> 2544
A9: =B9&C9&D9 -> 46181Vikram Singh82573 | B9: 46181 | C9: Vikram Singh | D9: 82573 | E9: =VLOOKUP(A9,Sheet1!A:E,5,0) -> 2279
A10: =B10&C10&D10 -> 46182Rohit Verma74787 | B10: 46182 | C10: Rohit Verma | D10: 74787 | E10: =VLOOKUP(A10,Sheet1!A:E,5,0) -> 2064
A11: =B11&C11&D11 -> 46183Sandeep Gupta60642 | B11: 46183 | C11: Sandeep Gupta | D11: 60642 | E11: =VLOOKUP(A11,Sheet1!A:E,5,0) -> 1674
A12: =B12&C12&D12 -> 46184Rahul Sharma76736 | B12: 46184 | C12: Rahul Sharma | D12: 76736 | E12: =VLOOKUP(A12,Sheet1!A:E,5,0) -> 2118
A13: =B13&C13&D13 -> 46185Amit Kumar82923 | B13: 46185 | C13: Amit Kumar | D13: 82923 | E13: =VLOOKUP(A13,Sheet1!A:E,5,0) -> 2289
... A44: =B44&C44&D44 -> 46216Rahul Sharma66887 | B44: 46216 | C44: Rahul Sharma | D44: 66887 | E44: =VLOOKUP(A44,Sheet1!A:E,5,0) -> 1846
